BEGIN:VCALENDAR
VERSION:2.0
PRODID:-//Prineville Review - ECPv6.15.20//NONSGML v1.0//EN
CALSCALE:GREGORIAN
METHOD:PUBLISH
X-WR-CALNAME:Prineville Review
X-ORIGINAL-URL:https://prinevillereview.com
X-WR-CALDESC:Events for Prineville Review
REFRESH-INTERVAL;VALUE=DURATION:PT1H
X-Robots-Tag:noindex
X-PUBLISHED-TTL:PT1H
BEGIN:VTIMEZONE
TZID:America/Los_Angeles
BEGIN:DAYLIGHT
TZOFFSETFROM:-0800
TZOFFSETTO:-0700
TZNAME:PDT
DTSTART:20230312T100000
END:DAYLIGHT
BEGIN:STANDARD
TZOFFSETFROM:-0700
TZOFFSETTO:-0800
TZNAME:PST
DTSTART:20231105T090000
END:STANDARD
BEGIN:DAYLIGHT
TZOFFSETFROM:-0800
TZOFFSETTO:-0700
TZNAME:PDT
DTSTART:20240310T100000
END:DAYLIGHT
BEGIN:STANDARD
TZOFFSETFROM:-0700
TZOFFSETTO:-0800
TZNAME:PST
DTSTART:20241103T090000
END:STANDARD
BEGIN:DAYLIGHT
TZOFFSETFROM:-0800
TZOFFSETTO:-0700
TZNAME:PDT
DTSTART:20250309T100000
END:DAYLIGHT
BEGIN:STANDARD
TZOFFSETFROM:-0700
TZOFFSETTO:-0800
TZNAME:PST
DTSTART:20251102T090000
END:STANDARD
END:VTIMEZONE
BEGIN:VEVENT
DTSTART;TZID=America/Los_Angeles:20241211T171500
DTEND;TZID=America/Los_Angeles:20241211T190000
DTSTAMP:20260421T213251
CREATED:20241212T040254Z
LAST-MODIFIED:20241212T040321Z
UID:1014-1733937300-1733943600@prinevillereview.com
SUMMARY:Crook County Parks & Recreation Meeting
DESCRIPTION:
URL:https://prinevillereview.com/calendar/crook-county-parks-recreation-meeting/
LOCATION:Juniper Art Guild\, 1635 SE Mountain Drive\, Prineville\, OR\, 97754\, United States
CATEGORIES:Public Meetings,Special Districts
END:VEVENT
BEGIN:VEVENT
DTSTART;TZID=America/Los_Angeles:20241120T173000
DTEND;TZID=America/Los_Angeles:20241120T190000
DTSTAMP:20260421T213251
CREATED:20241119T212711Z
LAST-MODIFIED:20241211T093159Z
UID:748-1732123800-1732129200@prinevillereview.com
SUMMARY:Highland Subdivision Water District Meeting
DESCRIPTION:NOTICE:\nNo agenda has been provided to the public\, nor has general public notice been made. The Prineville Review has requested notice pursuant to ORS 192.640\, but the HSWD would not provide more than the date\, time\, and location of this meeting. \nThe Highland Subdivision Water District has not provided production of meeting minutes of past minutes upon request by the Prineville Review upon request.
URL:https://prinevillereview.com/calendar/highland-subdivision-water-district-20nov2024/
LOCATION:Highland Subdivision Water District Meeting Place\, 7082 SE Night Hawk Ct\, Prineville\, OR\, 97754\, United States
CATEGORIES:Public Meetings,Special Districts
END:VEVENT
BEGIN:VEVENT
DTSTART;TZID=America/Los_Angeles:20241113T180000
DTEND;TZID=America/Los_Angeles:20241113T190000
DTSTAMP:20260421T213251
CREATED:20241112T211313Z
LAST-MODIFIED:20241112T211323Z
UID:714-1731520800-1731524400@prinevillereview.com
SUMMARY:Alfalfa Fire District Board Meeting
DESCRIPTION:
URL:https://prinevillereview.com/calendar/alfalfa-fire-district-board-meeting/
LOCATION:Alfalfa Fire Station\, 25889 Alfalfa Market Rd\, Alfalfa\, OR\, 97701\, United States
CATEGORIES:Public Meetings,Special Districts
END:VEVENT
BEGIN:VEVENT
DTSTART;TZID=America/Los_Angeles:20241112T080000
DTEND;TZID=America/Los_Angeles:20241112T170000
DTSTAMP:20260421T213251
CREATED:20241112T223937Z
LAST-MODIFIED:20241112T224105Z
UID:725-1731398400-1731430800@prinevillereview.com
SUMMARY:Crook County Parks & Recreation Board Meeting
DESCRIPTION:Event link contains notice and agenda.
URL:https://prinevillereview.com/calendar/crook-county-parks-recreation-board-meeting-13nov2024/
LOCATION:Juniper Art Guild\, 1635 SE Mountain Drive\, Prineville\, OR\, 97754\, United States
CATEGORIES:Public Meetings,Special Districts
END:VEVENT
BEGIN:VEVENT
DTSTART;TZID=America/Los_Angeles:20241021T090000
DTEND;TZID=America/Los_Angeles:20241021T100000
DTSTAMP:20260421T213251
CREATED:20241020T205458Z
LAST-MODIFIED:20241022T070558Z
UID:435-1729501200-1729504800@prinevillereview.com
SUMMARY:Crook County Soil & Water Conservation District Meeting
DESCRIPTION:Agenda: Click Here
URL:https://prinevillereview.com/calendar/ccswcd-21oct2024/
LOCATION:Crook County OSU Extension Service – Conference Room\, 498 SE Lynn Blvd\, Prineville\, OR\, 97754\, United States
CATEGORIES:Public Meetings,Special Districts
END:VEVENT
END:VCALENDAR