BEGIN:VCALENDAR
VERSION:2.0
PRODID:-//Prineville Review - ECPv6.15.20//NONSGML v1.0//EN
CALSCALE:GREGORIAN
METHOD:PUBLISH
X-ORIGINAL-URL:https://prinevillereview.com
X-WR-CALDESC:Events for Prineville Review
REFRESH-INTERVAL;VALUE=DURATION:PT1H
X-Robots-Tag:noindex
X-PUBLISHED-TTL:PT1H
BEGIN:VTIMEZONE
TZID:America/Los_Angeles
BEGIN:DAYLIGHT
TZOFFSETFROM:-0800
TZOFFSETTO:-0700
TZNAME:PDT
DTSTART:20230312T100000
END:DAYLIGHT
BEGIN:STANDARD
TZOFFSETFROM:-0700
TZOFFSETTO:-0800
TZNAME:PST
DTSTART:20231105T090000
END:STANDARD
BEGIN:DAYLIGHT
TZOFFSETFROM:-0800
TZOFFSETTO:-0700
TZNAME:PDT
DTSTART:20240310T100000
END:DAYLIGHT
BEGIN:STANDARD
TZOFFSETFROM:-0700
TZOFFSETTO:-0800
TZNAME:PST
DTSTART:20241103T090000
END:STANDARD
BEGIN:DAYLIGHT
TZOFFSETFROM:-0800
TZOFFSETTO:-0700
TZNAME:PDT
DTSTART:20250309T100000
END:DAYLIGHT
BEGIN:STANDARD
TZOFFSETFROM:-0700
TZOFFSETTO:-0800
TZNAME:PST
DTSTART:20251102T090000
END:STANDARD
BEGIN:DAYLIGHT
TZOFFSETFROM:-0800
TZOFFSETTO:-0700
TZNAME:PDT
DTSTART:20260308T100000
END:DAYLIGHT
BEGIN:STANDARD
TZOFFSETFROM:-0700
TZOFFSETTO:-0800
TZNAME:PST
DTSTART:20261101T090000
END:STANDARD
END:VTIMEZONE
BEGIN:VEVENT
DTSTART;TZID=America/Los_Angeles:20250317T173000
DTEND;TZID=America/Los_Angeles:20250317T190000
DTSTAMP:20260421T094345
CREATED:20250317T165202Z
LAST-MODIFIED:20250317T165211Z
UID:1700-1742232600-1742238000@prinevillereview.com
SUMMARY:Crook County Fair Board Meeting
DESCRIPTION:Meeting Notice/Agenda: Click here\nUse the link under the website section below to view the public notice from the governing body (if available) \nRemote Attendance Information:\nhttps://crookcountyor.zoom.us/j/98059154925?pwd=ZJ2z4PYfY4tNm8Yp0Fc6a61iPVdLc6.1 \nMeeting ID: 980 5915 4925 – Passcode: 614080 \nPrineville Review Livestreams:\nTBD – We upload meeting recordings if we attend in person to YouTube and typically provide Livestreams via Facebook at this current time. Some official meeting records are also uploaded to our YouTube. \nEditorial Notes:\nThe Crook County Fair Board is engaging in contract discussions with the Crooked River Roundupd \nRecent News Coverage:\nCheck Event Tag links for information on any potential recent coverage regarding this public or governing body. \n— Be sure to check back for potential updates. You can also check any official general notices under the website section below. Some updates made by a public body may not be able to be reposted here.
URL:https://prinevillereview.com/calendar/crook-county-fair-board-meeting-17mar2025/
LOCATION:Crook County Fairgrounds – Office\, 1280 S Main St\, Prineville\, OR\, 97754\, United States
CATEGORIES:Crook County,Public Meetings
END:VEVENT
BEGIN:VEVENT
DTSTART;TZID=America/Los_Angeles:20250213T171500
DTEND;TZID=America/Los_Angeles:20250213T190000
DTSTAMP:20260421T094345
CREATED:20250209T122616Z
LAST-MODIFIED:20250209T122616Z
UID:1500-1739466900-1739473200@prinevillereview.com
SUMMARY:Crook County Library Board Meeting
DESCRIPTION:Meeting Notice/Agenda: Click here\nUse the link under the website section below to view the public notice from the governing body (if available) \nRemote Attendance Information:\nhttps://prinevillereview.com/wp-content/uploads/2025/02/board_-_meeting_agenda_2025-02-13.pdf \nMeeting ID: 933 2577 0929 – Passcode: 300834 \nPrineville Review Livestreams:\nTBD – We upload meeting recordings if we attend in person to YouTube and typically provide Livestreams via Facebook at this current time. Some official meeting records are also uploaded to our YouTube. \nEditorial Notes:\n \nRecent News Coverage:\nCheck Event Tag links for information on any potential recent coverage regarding this public or governing body. \n— Be sure to check back for potential updates. You can also check any official general notices under the website section below. Some updates made by a public body may not be able to be reposted here.
URL:https://prinevillereview.com/calendar/crook-county-library-board-meeting-13feb2025/
LOCATION:Crook County Library – Broughton Room\, 175 NW Meadow Lakes Dr\, Prineville\, OR\, 97754\, United States
CATEGORIES:Crook County,Public Meetings
END:VEVENT
BEGIN:VEVENT
DTSTART;TZID=America/Los_Angeles:20250212T160000
DTEND;TZID=America/Los_Angeles:20250212T170000
DTSTAMP:20260421T094345
CREATED:20250209T121433Z
LAST-MODIFIED:20250209T121613Z
UID:1488-1739376000-1739379600@prinevillereview.com
SUMMARY:Crook County Planning Commission Meeting
DESCRIPTION:Meeting Notice/Agenda: Click here\nUse the link under the website section below to view the public notice from the governing body (if available) \nRemote Attendance Information:\nhttps://crookcountyor.zoom.us/j/99001225624?pwd=emRpZkYycGRJQy9OY1VoYXRrTFFWZz09 \nPhone: 253-215-8782 – Meeting ID: 990 0122 5624 – Passcode: 416735 \nPrineville Review Livestreams:\nTBD – We upload meeting recordings if we attend in person to YouTube and typically provide Livestreams via Facebook at this current time. Some official meeting records are also uploaded to our YouTube. \nEditorial Notes:\n \nRecent News Coverage:\nCheck Event Tag links for information on any potential recent coverage regarding this public or governing body. \n— Be sure to check back for potential updates. You can also check any official general notices under the website section below. Some updates made by a public body may not be able to be reposted here.
URL:https://prinevillereview.com/calendar/crook-county-planning-commission-12feb2025/
LOCATION:Crook County Annex – Meeting Room\, 320 NE Court St\, Prineville\, OR\, 97754\, United States
CATEGORIES:Crook County,Public Meetings
END:VEVENT
BEGIN:VEVENT
DTSTART;TZID=America/Los_Angeles:20250212T130000
DTEND;TZID=America/Los_Angeles:20250212T143000
DTSTAMP:20260421T094345
CREATED:20250209T122233Z
LAST-MODIFIED:20250209T125243Z
UID:1498-1739365200-1739370600@prinevillereview.com
SUMMARY:Crook County Natural Resource Advisory Committee
DESCRIPTION:Meeting Notice/Agenda: Click here\nUse the link under the website section below to view the public notice from the governing body (if available) \nRemote Attendance Information:\nhttps://oregonstate.zoom.us/j/92304719140?pwd=kHt2O9tugaSy5kkbAEcXGMbmnKMD4Z.1 \nMeeting ID: 980 0879 7992 – Passcode: 386848 \nPrineville Review Livestreams:\nTBD – We upload meeting recordings if we attend in person to YouTube and typically provide Livestreams via Facebook at this current time. Some official meeting records are also uploaded to our YouTube. \nEditorial Notes:\nThe Crook County Natural Resource Advisory Committee reports to the Crook County Board of Commissioners. \nRecent News Coverage:\nCheck Event Tag links for information on any potential recent coverage regarding this public or governing body. \n— Be sure to check back for potential updates. You can also check any official general notices under the website section below. Some updates made by a public body may not be able to be reposted here.
URL:https://prinevillereview.com/calendar/crook-county-natural-resource-advisory-committee-12feb2025/
LOCATION:Crook County OSU Extension Service – Conference Room\, 498 SE Lynn Blvd\, Prineville\, OR\, 97754\, United States
CATEGORIES:Crook County,Public Meetings
END:VEVENT
BEGIN:VEVENT
DTSTART;TZID=America/Los_Angeles:20250212T090000
DTEND;TZID=America/Los_Angeles:20250212T110000
DTSTAMP:20260421T094345
CREATED:20250209T004837Z
LAST-MODIFIED:20250209T121635Z
UID:1477-1739350800-1739358000@prinevillereview.com
SUMMARY:Crook County Board of Commissioners Meeting
DESCRIPTION:Meeting Notice/Agenda: Click here\nUse the link under the website section below to view the public notice from the governing body (if available) \nRemote Attendance Information:\nhttps://zoom.us/j/96242144333?pwd=R05nRWxIVHVneHRqRGFES0VQK3cwQT09 \nPhone: 253-215-8782 – Webinar ID: 962 4214 4333 – Passcode: 970900 \nPrineville Review Livestreams:\nTBD – We upload meeting recordings if we attend in person to YouTube and typically provide Livestreams via Facebook at this current time. Some official meeting records are also uploaded to our YouTube. \nEditorial Notes:\nThe meeting includes an executive session under ORS 192.660(2)(d) To conduct deliberations with persons designated by te governing body to carry on labor negotiations. \nRecent News Coverage:\nCheck Event Tag links for information on any potential recent coverage regarding this public or governing body. \n— Be sure to check back for potential updates. You can also check any official general notices under the website section below. Some updates made by a public body may not be able to be reposted here.
URL:https://prinevillereview.com/calendar/crook-county-board-of-commissioners-meeting-12feb2025/
LOCATION:Crook County Administration – Conference Room\, 203 NE Court St.\, Prineville\, OR\, 97754\, United States
CATEGORIES:Crook County,Public Meetings
END:VEVENT
BEGIN:VEVENT
DTSTART;TZID=America/Los_Angeles:20250210T173000
DTEND;TZID=America/Los_Angeles:20250210T190000
DTSTAMP:20260421T094345
CREATED:20250209T023519Z
LAST-MODIFIED:20250209T121709Z
UID:1480-1739208600-1739214000@prinevillereview.com
SUMMARY:Crook County Fair Board Meeting
DESCRIPTION:Meeting Notice/Agenda: Click here\nUse the link under the website section below to view the public notice from the governing body (if available) \nRemote Attendance Information:\nhttps://crookcountyor.zoom.us/j/93796537470?pwd=hIem1NYwVS4KHpBHwZgK82IP2bCyqi.1 \nMeeting ID: 937 9653 7470 – Passcode: 057854 \nPrineville Review Livestreams:\nTBD – We upload meeting recordings if we attend in person to YouTube and typically provide Livestreams via Facebook at this current time. Some official meeting records are also uploaded to our YouTube. \nEditorial Notes:\nThe Crook County Fairgrounds is considering changes to its Livestock Entry Fees for 2025 for Open Class\, 4-H\, and FFA. \nRecent News Coverage:\nCheck Event Tag links for information on any potential recent coverage regarding this public or governing body. \n— Be sure to check back for potential updates. You can also check any official general notices under the website section below. Some updates made by a public body may not be able to be reposted here.
URL:https://prinevillereview.com/calendar/crook-county-fair-board-meeting-10feb2025/
LOCATION:Crook County Fairgrounds – Office\, 1280 S Main St\, Prineville\, OR\, 97754\, United States
CATEGORIES:Crook County,Public Meetings
END:VEVENT
BEGIN:VEVENT
DTSTART;TZID=America/Los_Angeles:20250210T113000
DTEND;TZID=America/Los_Angeles:20250210T130000
DTSTAMP:20260421T094345
CREATED:20250209T120716Z
LAST-MODIFIED:20250209T120728Z
UID:1483-1739187000-1739192400@prinevillereview.com
SUMMARY:Crook County Community Heath Advisory Council Meeting
DESCRIPTION:Meeting Notice/Agenda: Click here\nUse the link under the website section below to view the public notice from the governing body (if available) \nRemote Attendance Information:\nMicrosoft Teams Meeting Link – Click Here \nMeeting ID: 260 387 148 788 – Passcode: vz2KG67D \nPrineville Review Livestreams:\nTBD – We upload meeting recordings if we attend in person to YouTube and typically provide Livestreams via Facebook at this current time. Some official meeting records are also uploaded to our YouTube. \nEditorial Notes:\nThe CHAC for Crook County has several items which are not specific enough to comply with the State’s meeting laws. We have reached out requesting specific details and that the governing body update its agenda in accordance with recommendations from the Oregon Attorney General to ensure the public understands the nature of the discussions/issues. \nRecent News Coverage:\nCheck Event Tag links for information on any potential recent coverage regarding this public or governing body. \n— Be sure to check back for potential updates. You can also check any official general notices under the website section below. Some updates made by a public body may not be able to be reposted here.
URL:https://prinevillereview.com/calendar/crook-county-community-heath-advisory-council-meeting-10feb2025/
LOCATION:Crook County Health Department\, 375 NW Beaver St\, Ste 100\, Prineville\, OR\, 97754\, United States
CATEGORIES:Crook County,Public Meetings
END:VEVENT
BEGIN:VEVENT
DTSTART;TZID=America/Los_Angeles:20250108T160000
DTEND;TZID=America/Los_Angeles:20250108T180000
DTSTAMP:20260421T094345
CREATED:20250104T005300Z
LAST-MODIFIED:20250208T232005Z
UID:1269-1736352000-1736359200@prinevillereview.com
SUMMARY:Crook County Planning Commission - Regular Meeting
DESCRIPTION:Meeting Notice/Agenda: Click here\nUse the link under the website section below to view the public notice from the governing body (if available) \nRemote Attendance Information:\nhttps://crookcountyor.zoom.us/j/99001225624?pwd=emRpZkYycGRJQy9OY1VoYXRrTFFWZz09 \nNo telephone call in details were provided. \nPrineville Review Livestreams:\nTBD – We upload meeting recordings if we attend in person to YouTube and typically provide Livestreams via Facebook at this current time. Some official meeting records are also uploaded to our YouTube. \nEditorial Notes:\nN/A \nRecent News Coverage:\nCheck Event Tag links for information on any potential recent coverage regarding this public or governing body. \n— Be sure to check back for potential updates. You can also check any official general notices under the website section below. Some updates made by a public body may not be able to be reposted here.
URL:https://prinevillereview.com/calendar/crook-county-planning-commission-regular-meeting-08jan2025/
LOCATION:Crook County Annex – Meeting Room\, 320 NE Court St\, Prineville\, OR\, 97754\, United States
CATEGORIES:Crook County,Public Meetings
END:VEVENT
BEGIN:VEVENT
DTSTART;TZID=America/Los_Angeles:20250108T130000
DTEND;TZID=America/Los_Angeles:20250108T150000
DTSTAMP:20260421T094345
CREATED:20250104T004507Z
LAST-MODIFIED:20250208T232016Z
UID:1265-1736341200-1736348400@prinevillereview.com
SUMMARY:Crook County Natural Resource Advisory Committee - Regular Meeting
DESCRIPTION:Meeting Notice/Agenda: Click here\nUse the link under the website section below to view the public notice from the governing body (if available) \nRemote Attendance Information:\nhttps://oregonstate.zoom.us/j/92304719140?pwd=kHt2O9tugaSy5kkbAEcXGMbmnKMD4Z.1 \nPrineville Review Livestreams:\nTBD – We upload meeting recordings if we attend in person to YouTube and typically provide Livestreams via Facebook at this current time. Some official meeting records are also uploaded to our YouTube. \nEditorial Notes:\nN/A \nRecent News Coverage:\nCheck Event Tag links for information on any potential recent coverage regarding this public or governing body. \n— Be sure to check back for potential updates. You can also check any official general notices under the website section below. Some updates made by a public body may not be able to be reposted here.
URL:https://prinevillereview.com/calendar/crook-county-natural-resource-advisory-committee-regular-meeting-08jan2025/
LOCATION:Crook County OSU Extension Service – Conference Room\, 498 SE Lynn Blvd\, Prineville\, OR\, 97754\, United States
CATEGORIES:Crook County,Public Meetings
END:VEVENT
BEGIN:VEVENT
DTSTART;TZID=America/Los_Angeles:20250106T080000
DTEND;TZID=America/Los_Angeles:20250106T083000
DTSTAMP:20260421T094345
CREATED:20250103T230921Z
LAST-MODIFIED:20250104T004521Z
UID:1260-1736150400-1736152200@prinevillereview.com
SUMMARY:Crook County - Special Oath of Office Ceremony
DESCRIPTION:Ceremony
URL:https://prinevillereview.com/calendar/crook-county-special-oath-of-office-ceremony-06jan2025/
LOCATION:Crook County Annex – Meeting Room\, 320 NE Court St\, Prineville\, OR\, 97754\, United States
CATEGORIES:Crook County,Public Meetings
END:VEVENT
BEGIN:VEVENT
DTSTART;TZID=America/Los_Angeles:20241230T090000
DTEND;TZID=America/Los_Angeles:20241230T100000
DTSTAMP:20260421T094345
CREATED:20241226T232145Z
LAST-MODIFIED:20250104T004526Z
UID:1242-1735549200-1735552800@prinevillereview.com
SUMMARY:Crook County Board of Commissioners - Special Meeting
DESCRIPTION:*** THIS IS A SPECIAL MEETING WHICH IS A NON-REGULAR MEETING OF THE GOVERNING BODY *** \nMeeting Notice/Agenda: Click here\nUse the link under the website section below to view the public notice from the governing body (if available) \nRemote Attendance Information:\nhttps://crookcountyor.zoom.us/j/93854420424?pwd=tlELUzDtgnOj2r3r3Rz7x8Rk0Z6Rvi.1 \nPhone: 1-253-215-8782; Meeting ID: 938 5442 0424; Passcode: 016792 \nPrineville Review Livestreams:\nTBD – We upload meeting recordings if we attend in-person to YouTube and typically provide Livestreams via Facebook at this current time. Some official meeting records are also uploaded to our YouTube. \nEditorial Notes:\nN/A \nRecent News Coverage:\nCheck Event Tag links for information on any potential recent coverage regarding this public or governing body. \n— Be sure to check back for potential updates. You can also check any official general notices under the website section below. Some updates made by a public body may not be able to be reposted here.
URL:https://prinevillereview.com/calendar/crook-county-board-of-commissioners-special-meeting-30dec2025/
LOCATION:Crook County Administration – Conference Room\, 203 NE Court St.\, Prineville\, OR\, 97754\, United States
CATEGORIES:Crook County,Public Meetings
END:VEVENT
BEGIN:VEVENT
DTSTART;TZID=America/Los_Angeles:20241218T160000
DTEND;TZID=America/Los_Angeles:20241218T180000
DTSTAMP:20260421T094345
CREATED:20241213T233513Z
LAST-MODIFIED:20241213T233526Z
UID:1050-1734537600-1734544800@prinevillereview.com
SUMMARY:Crook County Planning Commission Special Meeting
DESCRIPTION:*** THIS IS A SPECIAL MEETING WHICH IS A NON-REGULAR MEETING OF THE GOVERNING BODY *** \nMeeting Notice/Agenda: Click here \nUse the link under the website section below to view the public notice from the governing body (if available) \nRemote Attendance Information:\nhttps://crookcountyor.zoom.us/j/98910334105?pwd=NKya8Px0zgnyCz2RcwXiY03zLz0ECX.1 \nYou may also call in by dialing 1-253-215-8782 and enter the Meeting ID: 989 1033 4105; Meeting Passcode: 1218 \nPrineville Review Livestreams:\nTBD – We upload meeting recordings if we attend in-person to YouTube and typically provide Livestreams via Facebook at this current time. Some official meeting records are also uploaded to our YouTube. \nEditorial Notes:\nN/A \nRecent News Coverage:\nCheck Event Tag links for information on any potential recent coverage regarding this public or governing body. \n— Be sure to check back for potential updates. You can also check any official general notices under the website section below. Some updates made by a public body may not be able to be reposted here.
URL:https://prinevillereview.com/calendar/crook-county-planning-commission-special-meeting-18dec2024/
LOCATION:Crook County Annex – Meeting Room\, 320 NE Court St\, Prineville\, OR\, 97754\, United States
CATEGORIES:Crook County,Public Meetings
END:VEVENT
BEGIN:VEVENT
DTSTART;TZID=America/Los_Angeles:20241218T090000
DTEND;TZID=America/Los_Angeles:20241218T113000
DTSTAMP:20260421T094345
CREATED:20241213T232302Z
LAST-MODIFIED:20241213T232906Z
UID:1040-1734512400-1734521400@prinevillereview.com
SUMMARY:Crook County Board of Commissioners Meeting
DESCRIPTION:Meeting Notice/Agenda: Click here\nUse the link under the website section below to view the public notice from the governing body (if available) \nRemote Attendance Information:\nhttps://zoom.us/j/98173612010?pwd=OHhtdTlzdlVXUEdMUFpFdVd6eDBtdz09 \nYou may also call in by dialing 1-253-215-8782; Meeting ID: 981 7361 2010; Passcode: 033745 \nPrineville Review Livestreams:\nTBD – We upload meeting recordings if we attend in-person to YouTube and typically provide Livestreams via Facebook at this current time. Some official meeting records are also uploaded to our YouTube. \nEditorial Notes & Highlights:\n— The Crook County Board of Commissioners will be reviewing a public meetings grievance during this meeting.\n— The board will be considering and moving to appoint citizen to a vacant seat on the Budget Committee upon a recommendation by a special committee that meets on December 16th. https://co.crook.or.us/county-admin/page/special-public-meeting\n— Reading of proposed ordinance change for Tax Lot 1614110000700 & declaring an emergency.\n— Executive sessions are scheduled under ORS 192.660(2)(d) and (2)(h). \nRecent News Coverage:\nCheck Event Tag links for information on any potential recent coverage regarding this public or governing body.
URL:https://prinevillereview.com/calendar/crook-county-board-of-commissioners-meeting-18dec2024/
LOCATION:Crook County Annex – Meeting Room\, 320 NE Court St\, Prineville\, OR\, 97754\, United States
CATEGORIES:Crook County,Public Meetings
END:VEVENT
BEGIN:VEVENT
DTSTART;TZID=America/Los_Angeles:20241216T173000
DTEND;TZID=America/Los_Angeles:20241216T193000
DTSTAMP:20260421T094345
CREATED:20241213T103748Z
LAST-MODIFIED:20241214T221235Z
UID:1027-1734370200-1734377400@prinevillereview.com
SUMMARY:Crook County Fair Board Meeting
DESCRIPTION:Meeting Notice/Agenda: Click here\nUse the link under the website section below to view the public notice from the governing body (if available) \nRemote Attendance Information:\nhttps://crookcountyor.zoom.us/j/99819279704?pwd=AbJfv3RSxk1GvwJc99xGClW2zTldP1.1\nMeeting ID: 998 1927 9704 – Passcode: 813250 \nNo telephonic dial-in information was provided. \nPrineville Review Livestreams:\nTBD – We upload meeting recordings if we attend in-person to YouTube and typically provide Livestreams via Facebook at this current time. Some official meeting records are also uploaded to our YouTube. \nEditorial Notes:\n \nRecent News Coverage:\nCheck Event Tag links for information on any potential recent coverage regarding this public or governing body. \n— Be sure to check back for potential updates. You can also check any official general notices under the website section below. Some updates made by a public body may not be able to be reposted here.
URL:https://prinevillereview.com/calendar/crook-county-fair-board-meeting/
LOCATION:Crook County Fairgrounds – Office\, 1280 S Main St\, Prineville\, OR\, 97754\, United States
CATEGORIES:Crook County,Public Meetings
END:VEVENT
BEGIN:VEVENT
DTSTART;TZID=America/Los_Angeles:20241216T090000
DTEND;TZID=America/Los_Angeles:20241216T100000
DTSTAMP:20260421T094345
CREATED:20241211T092808Z
LAST-MODIFIED:20241213T105325Z
UID:999-1734339600-1734343200@prinevillereview.com
SUMMARY:Crook County Budget Committee Special Meeting
DESCRIPTION:Meeting notice linked below in website link. \nThis meeting includes two members of the Budget Committee and a member of county staff whom will advise the Board of Commissioners.
URL:https://prinevillereview.com/calendar/crook-county-budget-committee-special-meeting-16dec2024/
LOCATION:Crook County Administration – Conference Room\, 203 NE Court St.\, Prineville\, OR\, 97754\, United States
CATEGORIES:Crook County,Public Meetings
END:VEVENT
BEGIN:VEVENT
DTSTART;TZID=America/Los_Angeles:20241211T160000
DTEND;TZID=America/Los_Angeles:20241211T180000
DTSTAMP:20260421T094345
CREATED:20241211T091647Z
LAST-MODIFIED:20241211T091647Z
UID:995-1733932800-1733940000@prinevillereview.com
SUMMARY:Crook County Planning Commission Meeting
DESCRIPTION:
URL:https://prinevillereview.com/calendar/crook-county-planning-commission-meeting-11dec2024/
LOCATION:Crook County Annex – Meeting Room\, 320 NE Court St\, Prineville\, OR\, 97754\, United States
CATEGORIES:Crook County,Public Meetings
END:VEVENT
BEGIN:VEVENT
DTSTART;TZID=America/Los_Angeles:20241211T090000
DTEND;TZID=America/Los_Angeles:20241211T110000
DTSTAMP:20260421T094345
CREATED:20241211T092448Z
LAST-MODIFIED:20241213T232826Z
UID:997-1733907600-1733914800@prinevillereview.com
SUMMARY:Crook County Board of Commissioners Meeting
DESCRIPTION:
URL:https://prinevillereview.com/calendar/crook-county-board-of-commissioners-11dec2024/
LOCATION:Crook County Administration – Conference Room\, 203 NE Court St.\, Prineville\, OR\, 97754\, United States
CATEGORIES:Crook County,Public Meetings
END:VEVENT
BEGIN:VEVENT
DTSTART;TZID=America/Los_Angeles:20241118T173000
DTEND;TZID=America/Los_Angeles:20241118T190000
DTSTAMP:20260421T094345
CREATED:20241118T235146Z
LAST-MODIFIED:20241119T001813Z
UID:738-1731951000-1731956400@prinevillereview.com
SUMMARY:Crook County Fair Board Meeting
DESCRIPTION:The notice and agenda for this meeting is split between two inconsistent documents from the Crook County Fair Board. Both documents can be found on the website link at the bottom of this page. \n*This meeting is being livestreamed by the Prineville Review on Facebook here: https://www.facebook.com/events/482970204793268/ \n*Our livestreams are not yet available through Youtube or X (formally Twitter)\, but we hope to provide these at a later date. \nRECENT COVERAGE: \nNov 8th\, 2024 – Fair Board defies Crook County Commissioners\, refuses to restart board seat selection process \nOct. 18th\, 2024 – Crook County Fair Board interviews candidates for vacancy but violates public meetings law \n 
URL:https://prinevillereview.com/calendar/crook-county-fair-board-meeting-18nov2024/
LOCATION:Crook County Fairgrounds – Office\, 1280 S Main St\, Prineville\, OR\, 97754\, United States
CATEGORIES:Crook County,Public Meetings
END:VEVENT
BEGIN:VEVENT
DTSTART;TZID=America/Los_Angeles:20241114T171500
DTEND;TZID=America/Los_Angeles:20241114T190000
DTSTAMP:20260421T094345
CREATED:20241112T211533Z
LAST-MODIFIED:20241112T211728Z
UID:718-1731604500-1731610800@prinevillereview.com
SUMMARY:Crook County Library Board Meeting
DESCRIPTION:See event link for agenda and remote appearance information.
URL:https://prinevillereview.com/calendar/crook-county-library-board-meeting-14nov2024/
LOCATION:Crook County Library – Broughton Room\, 175 NW Meadow Lakes Dr\, Prineville\, OR\, 97754\, United States
CATEGORIES:Crook County,Public Meetings
END:VEVENT
BEGIN:VEVENT
DTSTART;TZID=America/Los_Angeles:20241106T090000
DTEND;TZID=America/Los_Angeles:20241106T120000
DTSTAMP:20260421T094345
CREATED:20241022T071227Z
LAST-MODIFIED:20241022T071227Z
UID:493-1730883600-1730894400@prinevillereview.com
SUMMARY:Board of County Commissioners Meeting
DESCRIPTION:
URL:https://prinevillereview.com/calendar/board-of-county-commissioners-meeting-06nov2024/
LOCATION:Crook County Annex – Meeting Room\, 320 NE Court St\, Prineville\, OR\, 97754\, United States
CATEGORIES:Crook County,Public Meetings
END:VEVENT
BEGIN:VEVENT
DTSTART;TZID=America/Los_Angeles:20241028T173000
DTEND;TZID=America/Los_Angeles:20241028T193000
DTSTAMP:20260421T094345
CREATED:20241020T213238Z
LAST-MODIFIED:20241022T070636Z
UID:440-1730136600-1730143800@prinevillereview.com
SUMMARY:Crook County Fair Board Meeting
DESCRIPTION:Meeting Agenda: Click Here\n\nEditorial Points: \n\nThe Crook County Fair Board is preparing for upcoming negotiations with the Crooked River Roundup & Fair Association.\nA recent story about the Crooked County Fair Board was published by the Prineville Review here.
URL:https://prinevillereview.com/calendar/crook-county-fair-board-meeting-28oct2024/
LOCATION:OR
CATEGORIES:Crook County,Public Meetings
END:VEVENT
BEGIN:VEVENT
DTSTART;TZID=America/Los_Angeles:20241023T140000
DTEND;TZID=America/Los_Angeles:20241023T180000
DTSTAMP:20260421T094345
CREATED:20241022T071521Z
LAST-MODIFIED:20241022T071807Z
UID:498-1729692000-1729706400@prinevillereview.com
SUMMARY:Crook County Planning Commission Work Session & Public Hearing
DESCRIPTION:Documents:\nAgenda \nRemote Meeting Link:\nhttps://zoom.us/j/95426381677?pwd=MWVjeExhZXZjcUNEZWZsMzFMRDlLQT09
URL:https://prinevillereview.com/calendar/crook-county-planning-commission-work-session-23oct2024/
LOCATION:Crook County Annex – Meeting Room\, 320 NE Court St\, Prineville\, OR\, 97754\, United States
CATEGORIES:Crook County,Public Meetings
END:VEVENT
END:VCALENDAR